BEGIN:VCALENDAR
VERSION:2.0
PRODID:-//Association Pause - ECPv5.14.0.4//NONSGML v1.0//EN
CALSCALE:GREGORIAN
METHOD:PUBLISH
X-WR-CALNAME:Association Pause
X-ORIGINAL-URL:http://www.associationpause.org
X-WR-CALDESC:Events for Association Pause
REFRESH-INTERVAL;VALUE=DURATION:PT1H
X-Robots-Tag:noindex
X-PUBLISHED-TTL:PT1H
BEGIN:VTIMEZONE
TZID:America/New_York
BEGIN:DAYLIGHT
TZOFFSETFROM:-0500
TZOFFSETTO:-0400
TZNAME:EDT
DTSTART:20190310T070000
END:DAYLIGHT
BEGIN:STANDARD
TZOFFSETFROM:-0400
TZOFFSETTO:-0500
TZNAME:EST
DTSTART:20191103T060000
END:STANDARD
BEGIN:DAYLIGHT
TZOFFSETFROM:-0500
TZOFFSETTO:-0400
TZNAME:EDT
DTSTART:20200308T070000
END:DAYLIGHT
BEGIN:STANDARD
TZOFFSETFROM:-0400
TZOFFSETTO:-0500
TZNAME:EST
DTSTART:20201101T060000
END:STANDARD
BEGIN:DAYLIGHT
TZOFFSETFROM:-0500
TZOFFSETTO:-0400
TZNAME:EDT
DTSTART:20210314T070000
END:DAYLIGHT
BEGIN:STANDARD
TZOFFSETFROM:-0400
TZOFFSETTO:-0500
TZNAME:EST
DTSTART:20211107T060000
END:STANDARD
TZID:America/Toronto
BEGIN:DAYLIGHT
TZOFFSETFROM:-0500
TZOFFSETTO:-0400
TZNAME:EDT
DTSTART:20200308T070000
END:DAYLIGHT
BEGIN:STANDARD
TZOFFSETFROM:-0400
TZOFFSETTO:-0500
TZNAME:EST
DTSTART:20201101T060000
END:STANDARD
END:VTIMEZONE
BEGIN:VEVENT
DTSTART;TZID=America/New_York:20210326T063000
DTEND;TZID=America/New_York:20210326T193000
DTSTAMP:20260419T135758
CREATED:20210107T220558Z
LAST-MODIFIED:20210107T220708Z
UID:5924-1616740200-1616787000@www.associationpause.org
SUMMARY:ZOOM au parent - L'estime de soi
DESCRIPTION:Sujet: L’estime de soi \nLien zoom: Sur demande seulement à info@associationpause.org
URL:http://www.associationpause.org/event/zoom-au-parent-lestime-de-soi/
ATTACH;FMTTYPE=image/jpeg:http://www.associationpause.org/wp-content/uploads/2021/01/Blue-and-Yellow-Laptop-Start-up-Business-Facebook-Cover.jpg
END:VEVENT
BEGIN:VEVENT
DTSTART;TZID=America/New_York:20210320T110000
DTEND;TZID=America/New_York:20210320T120000
DTSTAMP:20260419T135758
CREATED:20210107T161654Z
LAST-MODIFIED:20210107T220821Z
UID:5895-1616238000-1616241600@www.associationpause.org
SUMMARY:ZOOM participant- Fait ton show
DESCRIPTION:Sujet:  Fait ton show \nLien Zoom:  Sur demande seulement à info@associationpause.org
URL:http://www.associationpause.org/event/zoom-participant-fait-ton-show/
ATTACH;FMTTYPE=image/jpeg:http://www.associationpause.org/wp-content/uploads/2021/01/Blue-and-Yellow-Laptop-Start-up-Business-Facebook-Cover-1.jpg
END:VEVENT
BEGIN:VEVENT
DTSTART;TZID=America/New_York:20210319T103000
DTEND;TZID=America/New_York:20210319T233000
DTSTAMP:20260419T135758
CREATED:20210107T220425Z
LAST-MODIFIED:20210107T220949Z
UID:5922-1616149800-1616196600@www.associationpause.org
SUMMARY:ZOOM au parent- Difficulté à vieillir avec un enfant handicapé
DESCRIPTION:Sujet: Difficulté à vieillir avec un enfant handicapé \nLien zoom: Sur demande seulement à info@associationpause.org
URL:http://www.associationpause.org/event/zoom-au-parent-difficulte-a-vieillir-avec-un-enfant-handicape/
ATTACH;FMTTYPE=image/jpeg:http://www.associationpause.org/wp-content/uploads/2021/01/Blue-and-Yellow-Laptop-Start-up-Business-Facebook-Cover.jpg
END:VEVENT
BEGIN:VEVENT
DTSTART;TZID=America/New_York:20210313T110000
DTEND;TZID=America/New_York:20210313T120000
DTSTAMP:20260419T135758
CREATED:20210107T160342Z
LAST-MODIFIED:20210107T221015Z
UID:5893-1615633200-1615636800@www.associationpause.org
SUMMARY:ZOOM participant- Yoga
DESCRIPTION:Sujet:  Yoga \nLien Zoom:  Sur demande seulement à info@associationpause.org
URL:http://www.associationpause.org/event/zoom-participant-yoga/
ATTACH;FMTTYPE=image/jpeg:http://www.associationpause.org/wp-content/uploads/2021/01/Blue-and-Yellow-Laptop-Start-up-Business-Facebook-Cover-1.jpg
END:VEVENT
BEGIN:VEVENT
DTSTART;TZID=America/New_York:20210312T013000
DTEND;TZID=America/New_York:20210312T143000
DTSTAMP:20260419T135758
CREATED:20210107T220223Z
LAST-MODIFIED:20210107T221051Z
UID:5920-1615512600-1615559400@www.associationpause.org
SUMMARY:ZOOM au parent - Quel est ton plus grand défi ?
DESCRIPTION:Sujet: Quel est ton plus grand défi ? \nLien Zoom: Sur demande seulement au info@associationpause.org
URL:http://www.associationpause.org/event/zoom-au-parent-quel-est-ton-plus-grand-defi/
ATTACH;FMTTYPE=image/jpeg:http://www.associationpause.org/wp-content/uploads/2021/01/Blue-and-Yellow-Laptop-Start-up-Business-Facebook-Cover.jpg
END:VEVENT
BEGIN:VEVENT
DTSTART;TZID=America/New_York:20210227T110000
DTEND;TZID=America/New_York:20210227T120000
DTSTAMP:20260419T135758
CREATED:20210107T160235Z
LAST-MODIFIED:20210107T221129Z
UID:5891-1614423600-1614427200@www.associationpause.org
SUMMARY:ZOOM participant- Je connais la chanson *Disney*
DESCRIPTION:Sujet:  Je connais la chanson *Disney* \nLien Zoom:  Sur demande seulement à info@associationpause.org
URL:http://www.associationpause.org/event/zoom-participant-je-connais-la-chanson-disney/
ATTACH;FMTTYPE=image/jpeg:http://www.associationpause.org/wp-content/uploads/2021/01/Blue-and-Yellow-Laptop-Start-up-Business-Facebook-Cover-1.jpg
END:VEVENT
BEGIN:VEVENT
DTSTART;TZID=America/New_York:20210226T183000
DTEND;TZID=America/New_York:20210226T213000
DTSTAMP:20260419T135758
CREATED:20210107T214808Z
LAST-MODIFIED:20210107T221206Z
UID:5918-1614364200-1614375000@www.associationpause.org
SUMMARY:ZOOM au parent - Partage d'activités à faire pendant la relâche
DESCRIPTION:Sujet: Partage d’activités à faire pendant la relâche \nLien Zoom: Sur demande seulement à info@associationpause.org
URL:http://www.associationpause.org/event/zoom-au-parent-partage-dactivites-a-faire-pendant-la-relache/
ATTACH;FMTTYPE=image/jpeg:http://www.associationpause.org/wp-content/uploads/2021/01/Blue-and-Yellow-Laptop-Start-up-Business-Facebook-Cover.jpg
END:VEVENT
BEGIN:VEVENT
DTSTART;TZID=America/New_York:20210220T110000
DTEND;TZID=America/New_York:20210220T120000
DTSTAMP:20260419T135758
CREATED:20210107T160136Z
LAST-MODIFIED:20210107T221240Z
UID:5889-1613818800-1613822400@www.associationpause.org
SUMMARY:ZOOM pour participant - 2 vérités\, 1 mensonge
DESCRIPTION:Sujet:   2 vérités\, 1 mensonge \nLien Zoom:  Sur demande seulement à info@associationpause.org
URL:http://www.associationpause.org/event/zoom-pour-participant-2-verites-1-mensonge/
ATTACH;FMTTYPE=image/jpeg:http://www.associationpause.org/wp-content/uploads/2021/01/Blue-and-Yellow-Laptop-Start-up-Business-Facebook-Cover-1.jpg
END:VEVENT
BEGIN:VEVENT
DTSTART;TZID=America/New_York:20210219T103000
DTEND;TZID=America/New_York:20210219T233000
DTSTAMP:20260419T135758
CREATED:20210107T214438Z
LAST-MODIFIED:20210107T221305Z
UID:5916-1613730600-1613777400@www.associationpause.org
SUMMARY:ZOOM au parent- Quel est votre truc pour garder le moral ?
DESCRIPTION:Sujet: Quel est votre truc pour garder le moral ? \nLien Zoom: Sur demande seulement à info@associationpause.org \n 
URL:http://www.associationpause.org/event/zoom-au-parent-quel-est-votre-truc-pour-garder-le-moral/
ATTACH;FMTTYPE=image/jpeg:http://www.associationpause.org/wp-content/uploads/2021/01/Blue-and-Yellow-Laptop-Start-up-Business-Facebook-Cover.jpg
END:VEVENT
BEGIN:VEVENT
DTSTART;TZID=America/New_York:20210213T110000
DTEND;TZID=America/New_York:20210213T120000
DTSTAMP:20260419T135758
CREATED:20210107T160023Z
LAST-MODIFIED:20210107T221331Z
UID:5887-1613214000-1613217600@www.associationpause.org
SUMMARY:ZOOM pour participant - Bingo
DESCRIPTION:Sujet:   Bingo \nLien Zoom:  Sur demande seulement à info@associationpause.org
URL:http://www.associationpause.org/event/zoom-pour-participant-bingo/
ATTACH;FMTTYPE=image/jpeg:http://www.associationpause.org/wp-content/uploads/2021/01/Blue-and-Yellow-Laptop-Start-up-Business-Facebook-Cover-1.jpg
END:VEVENT
BEGIN:VEVENT
DTSTART;TZID=America/New_York:20210212T013000
DTEND;TZID=America/New_York:20210212T143000
DTSTAMP:20260419T135758
CREATED:20210107T213303Z
LAST-MODIFIED:20210107T221457Z
UID:5914-1613093400-1613140200@www.associationpause.org
SUMMARY:ZOOM au parent - Que faites-vous pour garder la flamme dans votre couple ?
DESCRIPTION:Sujet: Que faites-vous pour garder la flamme dans votre couple ? \nLien Zoom: Sur demande seulement à info@associationpause.org
URL:http://www.associationpause.org/event/zoom-au-parent-que-faites-vous-pour-garder-la-flamme-dans-votre-couple/
ATTACH;FMTTYPE=image/jpeg:http://www.associationpause.org/wp-content/uploads/2021/01/Blue-and-Yellow-Laptop-Start-up-Business-Facebook-Cover.jpg
END:VEVENT
BEGIN:VEVENT
DTSTART;TZID=America/New_York:20210206T110000
DTEND;TZID=America/New_York:20210206T120000
DTSTAMP:20260419T135758
CREATED:20210107T155931Z
LAST-MODIFIED:20210107T221521Z
UID:5885-1612609200-1612612800@www.associationpause.org
SUMMARY:ZOOM pour participant- Cuisine - Brochette de st-valentin
DESCRIPTION:Sujet:   Brochette de st-valentin \nLien Zoom:  Sur demande seulement à info@associationpause.org
URL:http://www.associationpause.org/event/zoom-pour-participant-cuisine-brochette-de-st-valentin/
ATTACH;FMTTYPE=image/jpeg:http://www.associationpause.org/wp-content/uploads/2021/01/Blue-and-Yellow-Laptop-Start-up-Business-Facebook-Cover-1.jpg
END:VEVENT
BEGIN:VEVENT
DTSTART;TZID=America/New_York:20210205T183000
DTEND;TZID=America/New_York:20210205T193000
DTSTAMP:20260419T135758
CREATED:20210107T212305Z
LAST-MODIFIED:20210107T221555Z
UID:5912-1612549800-1612553400@www.associationpause.org
SUMMARY:ZOOM pour parent - Ton endroit de rêve
DESCRIPTION:Sujet:  Ton endroit de rêve \nLien Zoom:  Sur demande seulement à info@associationpause.org
URL:http://www.associationpause.org/event/zoom-pour-parent-ton-endroit-de-reve/
ATTACH;FMTTYPE=image/jpeg:http://www.associationpause.org/wp-content/uploads/2021/01/Blue-and-Yellow-Laptop-Start-up-Business-Facebook-Cover.jpg
END:VEVENT
BEGIN:VEVENT
DTSTART;TZID=America/New_York:20210130T110000
DTEND;TZID=America/New_York:20210130T120000
DTSTAMP:20260419T135758
CREATED:20210107T155809Z
LAST-MODIFIED:20210107T221627Z
UID:5883-1612004400-1612008000@www.associationpause.org
SUMMARY:ZOOM pour participant- Charade et devinettes
DESCRIPTION:Sujet:   Charade et devinettes \nLien Zoom:  Sur demande seulement à info@associationpause.org
URL:http://www.associationpause.org/event/zoom-pour-participant-charade-et-devinettes/
ATTACH;FMTTYPE=image/jpeg:http://www.associationpause.org/wp-content/uploads/2021/01/Blue-and-Yellow-Laptop-Start-up-Business-Facebook-Cover-1.jpg
END:VEVENT
BEGIN:VEVENT
DTSTART;TZID=America/New_York:20210129T103000
DTEND;TZID=America/New_York:20210129T233000
DTSTAMP:20260419T135758
CREATED:20210107T211117Z
LAST-MODIFIED:20210107T221704Z
UID:5908-1611916200-1611963000@www.associationpause.org
SUMMARY:ZOOM pour parent - Que faites-vous pour vous ?
DESCRIPTION:Sujet: Que faites-vous pour vous ? \nLien Zoom: Sur demande seulement à info@associationpause.org
URL:http://www.associationpause.org/event/zoom-pour-parent-en-lien-avec-le-futur/
ATTACH;FMTTYPE=image/jpeg:http://www.associationpause.org/wp-content/uploads/2021/01/Blue-and-Yellow-Laptop-Start-up-Business-Facebook-Cover.jpg
END:VEVENT
BEGIN:VEVENT
DTSTART;TZID=America/New_York:20210123T110000
DTEND;TZID=America/New_York:20210123T120000
DTSTAMP:20260419T135758
CREATED:20210107T155620Z
LAST-MODIFIED:20210107T221749Z
UID:5881-1611399600-1611403200@www.associationpause.org
SUMMARY:ZOOM pour participant- Bricolage flocon de neige
DESCRIPTION:Sujet:   Bricolage flocon de neige \nLien Zoom:  Sur demande seulement à info@associationpause.org
URL:http://www.associationpause.org/event/zoom-pour-participant-bricolage-flocon-de-neige/
ATTACH;FMTTYPE=image/jpeg:http://www.associationpause.org/wp-content/uploads/2021/01/Blue-and-Yellow-Laptop-Start-up-Business-Facebook-Cover-1.jpg
END:VEVENT
BEGIN:VEVENT
DTSTART;TZID=America/New_York:20210122T133000
DTEND;TZID=America/New_York:20210122T143000
DTSTAMP:20260419T135758
CREATED:20210107T210411Z
LAST-MODIFIED:20210107T221825Z
UID:5903-1611322200-1611325800@www.associationpause.org
SUMMARY:ZOOM pour parent - En lien avec le futur
DESCRIPTION:Sujet: En lien avec le futur \nLien Zoom: Sur demande seulement à info@associationpause.org
URL:http://www.associationpause.org/event/zoom-parent/
ATTACH;FMTTYPE=image/jpeg:http://www.associationpause.org/wp-content/uploads/2021/01/Blue-and-Yellow-Laptop-Start-up-Business-Facebook-Cover.jpg
END:VEVENT
BEGIN:VEVENT
DTSTART;TZID=America/New_York:20210116T110000
DTEND;TZID=America/New_York:20210116T120000
DTSTAMP:20260419T135758
CREATED:20210107T155505Z
LAST-MODIFIED:20210107T221852Z
UID:5879-1610794800-1610798400@www.associationpause.org
SUMMARY:ZOOM pour participant- Exercices sur chaise
DESCRIPTION:Sujet:   Exercices sur chaise \nLien Zoom:  Sur demande seulement à info@associationpause.org
URL:http://www.associationpause.org/event/zoom-pour-participant-exercices-sur-chaise/
ATTACH;FMTTYPE=image/jpeg:http://www.associationpause.org/wp-content/uploads/2021/01/Blue-and-Yellow-Laptop-Start-up-Business-Facebook-Cover-1.jpg
END:VEVENT
BEGIN:VEVENT
DTSTART;TZID=America/New_York:20210115T183000
DTEND;TZID=America/New_York:20210115T193000
DTSTAMP:20260419T135758
CREATED:20210107T184624Z
LAST-MODIFIED:20210107T221926Z
UID:5899-1610735400-1610739000@www.associationpause.org
SUMMARY:ZOOM pour parent - Les vacances
DESCRIPTION:Sujet:  Les vacances \nLien Zoom:  Sur demande seulement à info@associationpause.org
URL:http://www.associationpause.org/event/zoom-parents/
ATTACH;FMTTYPE=image/jpeg:http://www.associationpause.org/wp-content/uploads/2021/01/Blue-and-Yellow-Laptop-Start-up-Business-Facebook-Cover.jpg
END:VEVENT
BEGIN:VEVENT
DTSTART;TZID=America/New_York:20210109T110000
DTEND;TZID=America/New_York:20210109T120000
DTSTAMP:20260419T135758
CREATED:20210107T155336Z
LAST-MODIFIED:20210107T222111Z
UID:5876-1610190000-1610193600@www.associationpause.org
SUMMARY:ZOOM pour participant- Retour des vacances
DESCRIPTION:Sujet:   Retour des vacances \nLien Zoom:  Sur demande seulement à info@associationpause.org
URL:http://www.associationpause.org/event/zoom-pour-participant-retour-des-vacances/
ATTACH;FMTTYPE=image/jpeg:http://www.associationpause.org/wp-content/uploads/2021/01/Blue-and-Yellow-Laptop-Start-up-Business-Facebook-Cover-1.jpg
END:VEVENT
BEGIN:VEVENT
DTSTART;TZID=America/New_York:20210107T110000
DTEND;TZID=America/New_York:20210107T120000
DTSTAMP:20260419T135758
CREATED:20210107T161835Z
LAST-MODIFIED:20210107T204708Z
UID:5897-1610017200-1610020800@www.associationpause.org
SUMMARY:ZOOM participant- Expérience scientifique
DESCRIPTION:Sujet:  Expérience scientifique \nLien Zoom:  Sur demande seulement à info@associationpause.org
URL:http://www.associationpause.org/event/zoom-participant-experience-scientifique/
ATTACH;FMTTYPE=image/jpeg:http://www.associationpause.org/wp-content/uploads/2021/01/Blue-and-Yellow-Laptop-Start-up-Business-Facebook-Cover-1.jpg
END:VEVENT
BEGIN:VEVENT
DTSTART;TZID=America/New_York:20201114T100000
DTEND;TZID=America/New_York:20201114T160000
DTSTAMP:20260419T135758
CREATED:20201113T210109Z
LAST-MODIFIED:20201113T210358Z
UID:5623-1605348000-1605369600@www.associationpause.org
SUMMARY:Halte-loisirs
DESCRIPTION:
URL:http://www.associationpause.org/event/halte-loisirs/
LOCATION:Pavillon Mille-Roches\, 190 avenue Lareau\, St-Jean-sur-Richelieu\, Québec\, Canada
END:VEVENT
BEGIN:VEVENT
DTSTART;TZID=America/Toronto:20201113T183000
DTEND;TZID=America/Toronto:20201113T200000
DTSTAMP:20260419T135758
CREATED:20201113T205435Z
LAST-MODIFIED:20201113T205845Z
UID:5620-1605292200-1605297600@www.associationpause.org
SUMMARY:Soirée jeux de société
DESCRIPTION:
URL:http://www.associationpause.org/event/soiree-jeux-de-societe/
LOCATION:Palestre d’Iberville\, 375 avenue Bessette\, Saint-Jean-sur-richelieu\, Quebec\, J2X 2N8\, Canada
END:VEVENT
BEGIN:VEVENT
DTSTART;TZID=America/New_York:20200214T173000
DTEND;TZID=America/New_York:20200214T210000
DTSTAMP:20260419T135758
CREATED:20200131T190809Z
LAST-MODIFIED:20200131T190809Z
UID:5445-1581701400-1581714000@www.associationpause.org
SUMMARY:Souper danse
DESCRIPTION:Thématique: Soirée quétaine\nSouper: Spaghetti\nDessert: Tartelettes aux fruits
URL:http://www.associationpause.org/event/souper-danse-11/
LOCATION:Centre Fernand Charest\, 190\, Laurier\, saint-jean-sur-richelieu
ATTACH;FMTTYPE=image/png:http://www.associationpause.org/wp-content/uploads/2018/11/banniere-don.png
END:VEVENT
BEGIN:VEVENT
DTSTART;TZID=America/New_York:20200207T180000
DTEND;TZID=America/New_York:20200207T203000
DTSTAMP:20260419T135758
CREATED:20200131T190459Z
LAST-MODIFIED:20200131T190459Z
UID:5442-1581098400-1581107400@www.associationpause.org
SUMMARY:Magasinage
DESCRIPTION:
URL:http://www.associationpause.org/event/magasinage/
LOCATION:Carrefour Richelieu\, 600 rue Pierre-Caisse porte 2\, Saint-Jean-sur-Richelieu
ATTACH;FMTTYPE=image/jpeg:http://www.associationpause.org/wp-content/uploads/2020/01/n-SHOPPING-BAGS-628x314-1.jpg
END:VEVENT
BEGIN:VEVENT
DTSTART;TZID=America/New_York:20200131T180000
DTEND;TZID=America/New_York:20200131T203000
DTSTAMP:20260419T135758
CREATED:20200131T190248Z
LAST-MODIFIED:20200131T190322Z
UID:5438-1580493600-1580502600@www.associationpause.org
SUMMARY:Soirée Jeux
DESCRIPTION:
URL:http://www.associationpause.org/event/soiree-jeux/
LOCATION:Palestre d’Iberville\, 375 avenue Bessette\, Saint-Jean-sur-richelieu\, Quebec\, J2X 2N8\, Canada
ATTACH;FMTTYPE=image/jpeg:http://www.associationpause.org/wp-content/uploads/2020/01/téléchargement-1.jpg
END:VEVENT
BEGIN:VEVENT
DTSTART;TZID=America/New_York:20200110T053000
DTEND;TZID=America/New_York:20200110T210000
DTSTAMP:20260419T135758
CREATED:20200122T155936Z
LAST-MODIFIED:20200122T155936Z
UID:5429-1578634200-1578690000@www.associationpause.org
SUMMARY:SOUPER DANSE
DESCRIPTION:
URL:http://www.associationpause.org/event/souper-danse-10/
LOCATION:Centre Fernand Charest\, 190\, Laurier\, saint-jean-sur-richelieu
ATTACH;FMTTYPE=image/jpeg:http://www.associationpause.org/wp-content/uploads/2020/01/téléchargement.jpg
END:VEVENT
BEGIN:VEVENT
DTSTART;TZID=America/New_York:20191214T100000
DTEND;TZID=America/New_York:20191214T160000
DTSTAMP:20260419T135758
CREATED:20190904T190537Z
LAST-MODIFIED:20190904T190537Z
UID:5389-1576317600-1576339200@www.associationpause.org
SUMMARY:FÊTE DE NOEL
DESCRIPTION:Tout les groupes sont attendu au pavillon Gérard Morin
URL:http://www.associationpause.org/event/fete-de-noel/
ATTACH;FMTTYPE=image/jpeg:http://www.associationpause.org/wp-content/uploads/2019/09/téléchargement-1.jpg
END:VEVENT
BEGIN:VEVENT
DTSTART;TZID=America/New_York:20191213T173000
DTEND;TZID=America/New_York:20191213T210000
DTSTAMP:20260419T135758
CREATED:20190904T185530Z
LAST-MODIFIED:20190904T185530Z
UID:5386-1576258200-1576270800@www.associationpause.org
SUMMARY:SOUPER DANSE
DESCRIPTION:LA CHASSE AUX LUTINS \n  \nAu menu: \nFilet de porc pomme érable et gâteau banane et chocolat \n 
URL:http://www.associationpause.org/event/souper-danse-9/
ATTACH;FMTTYPE=image/jpeg:http://www.associationpause.org/wp-content/uploads/2019/09/19146-un-deux-trois-petits-lutins.jpg
END:VEVENT
BEGIN:VEVENT
DTSTART;TZID=America/New_York:20191207T100000
DTEND;TZID=America/New_York:20191207T160000
DTSTAMP:20260419T135758
CREATED:20190904T185133Z
LAST-MODIFIED:20190904T185133Z
UID:5382-1575712800-1575734400@www.associationpause.org
SUMMARY:HALTE LOISIR | Automne 2019
DESCRIPTION:CINÉMA DES FÊTES \n  \nTout les groupes à l’école Marie Rivier.
URL:http://www.associationpause.org/event/halte-loisir-automne-2019-12/
END:VEVENT
END:VCALENDAR